BEGIN:VCALENDAR
VERSION:2.0
PRODID:-//Baton Rouge Woodworking Club - ECPv6.15.20//NONSGML v1.0//EN
CALSCALE:GREGORIAN
METHOD:PUBLISH
X-WR-CALNAME:Baton Rouge Woodworking Club
X-ORIGINAL-URL:https://www.brwoodworkers.com
X-WR-CALDESC:Events for Baton Rouge Woodworking Club
REFRESH-INTERVAL;VALUE=DURATION:PT1H
X-Robots-Tag:noindex
X-PUBLISHED-TTL:PT1H
BEGIN:VTIMEZONE
TZID:America/Chicago
BEGIN:DAYLIGHT
TZOFFSETFROM:-0600
TZOFFSETTO:-0500
TZNAME:CDT
DTSTART:20210314T080000
END:DAYLIGHT
BEGIN:STANDARD
TZOFFSETFROM:-0500
TZOFFSETTO:-0600
TZNAME:CST
DTSTART:20211107T070000
END:STANDARD
BEGIN:DAYLIGHT
TZOFFSETFROM:-0600
TZOFFSETTO:-0500
TZNAME:CDT
DTSTART:20220313T080000
END:DAYLIGHT
BEGIN:STANDARD
TZOFFSETFROM:-0500
TZOFFSETTO:-0600
TZNAME:CST
DTSTART:20221106T070000
END:STANDARD
BEGIN:DAYLIGHT
TZOFFSETFROM:-0600
TZOFFSETTO:-0500
TZNAME:CDT
DTSTART:20230312T080000
END:DAYLIGHT
BEGIN:STANDARD
TZOFFSETFROM:-0500
TZOFFSETTO:-0600
TZNAME:CST
DTSTART:20231105T070000
END:STANDARD
BEGIN:DAYLIGHT
TZOFFSETFROM:-0600
TZOFFSETTO:-0500
TZNAME:CDT
DTSTART:20240310T080000
END:DAYLIGHT
BEGIN:STANDARD
TZOFFSETFROM:-0500
TZOFFSETTO:-0600
TZNAME:CST
DTSTART:20241103T070000
END:STANDARD
END:VTIMEZONE
BEGIN:VEVENT
DTSTART;TZID=America/Chicago:20230401T090000
DTEND;TZID=America/Chicago:20230401T110000
DTSTAMP:20260423T172313
CREATED:20221128T030744Z
LAST-MODIFIED:20221128T030744Z
UID:12607-1680339600-1680346800@www.brwoodworkers.com
SUMMARY:April 2023 Club Meeting
DESCRIPTION:Skill Topic: Wood Burning\,Presenter: Bob Chambers
URL:https://www.brwoodworkers.com/event/april-2023-club-meeting/
LOCATION:Doug Morgan’s Shop\, 2252 Thompson Creek Road\, Norwood\, 70761\, United States
CATEGORIES:Monthly Meeting
ATTACH;FMTTYPE=image/png:https://www.brwoodworkers.com/wp-content/uploads/2022/04/BRWoodworkerClub-Logo-Tiny.png
END:VEVENT
BEGIN:VEVENT
DTSTART;TZID=America/Chicago:20230304T090000
DTEND;TZID=America/Chicago:20230304T110000
DTSTAMP:20260423T172313
CREATED:20221128T030744Z
LAST-MODIFIED:20221128T030744Z
UID:12606-1677920400-1677927600@www.brwoodworkers.com
SUMMARY:March 2023 Club Meeting
DESCRIPTION:Skill Topic: Cutting Crown Molding\,Presenter: Lee Soileaux
URL:https://www.brwoodworkers.com/event/march-2023-club-meeting/
LOCATION:David Ringuette’s Shop\, 26530 John L. Lane\, Denham Springs\, 70726\, United States
CATEGORIES:Monthly Meeting
ATTACH;FMTTYPE=image/png:https://www.brwoodworkers.com/wp-content/uploads/2022/04/BRWoodworkerClub-Logo-Tiny.png
END:VEVENT
BEGIN:VEVENT
DTSTART;TZID=America/Chicago:20230204T090000
DTEND;TZID=America/Chicago:20230204T110000
DTSTAMP:20260423T172313
CREATED:20221128T030744Z
LAST-MODIFIED:20230107T042539Z
UID:12605-1675501200-1675508400@www.brwoodworkers.com
SUMMARY:February 2023 Club Meeting
DESCRIPTION:Skill Topic: Computer Layout\,\nPresenter: George Cenac
URL:https://www.brwoodworkers.com/event/febraury-2023-club-meeting/
LOCATION:PMC Machinery\, 11420 US-190\, Hammond\, 70401\, United States
CATEGORIES:Monthly Meeting
ATTACH;FMTTYPE=image/png:https://www.brwoodworkers.com/wp-content/uploads/2022/04/BRWoodworkerClub-Logo-Tiny.png
END:VEVENT
BEGIN:VEVENT
DTSTART;TZID=America/Chicago:20230107T090000
DTEND;TZID=America/Chicago:20230107T110000
DTSTAMP:20260423T172313
CREATED:20221128T030743Z
LAST-MODIFIED:20230102T045153Z
UID:12604-1673082000-1673089200@www.brwoodworkers.com
SUMMARY:January 2023 Club Meeting
DESCRIPTION:Skill Topic: Tool Review\, Nickel Electroplating\,\nPresenter: Geoff Michelli
URL:https://www.brwoodworkers.com/event/janurary-2023-club-meeting/
LOCATION:Hays Town’s Shop\, 1544 Stanford Avenue\, Baton Rouge\, Louisiana\, 70808\, United States
CATEGORIES:Monthly Meeting
ATTACH;FMTTYPE=image/png:https://www.brwoodworkers.com/wp-content/uploads/2022/04/BRWoodworkerClub-Logo-Tiny.png
END:VEVENT
BEGIN:VEVENT
DTSTART;TZID=America/Chicago:20221001T090000
DTEND;TZID=America/Chicago:20221001T110000
DTSTAMP:20260423T172313
CREATED:20220206T025138Z
LAST-MODIFIED:20220828T190606Z
UID:12056-1664614800-1664622000@www.brwoodworkers.com
SUMMARY:October 2022 Club Monthly Meeting
DESCRIPTION:Our monthly meeting in October 2022 will be held October 1st at the Swamp Life Expo in Grosse Tete\, LA. \nWe will be helping build bird houses for the Swamp Fest. \nMore details will be posted before the meeting.  \nBirdhouse Plan for Iberville Swamp Life Expo
URL:https://www.brwoodworkers.com/event/october-2022-club-monthly-meeting/
LOCATION:Swamp Life Expo\, 17525 Louisiana 77\, Grosse Tete\, LA\, 70740\, United States
CATEGORIES:Monthly Meeting
ATTACH;FMTTYPE=image/png:https://www.brwoodworkers.com/wp-content/uploads/2022/04/BRWoodworkerClub-Logo-Tiny.png
END:VEVENT
BEGIN:VEVENT
DTSTART;TZID=America/Chicago:20220910T090000
DTEND;TZID=America/Chicago:20220910T110000
DTSTAMP:20260423T172313
CREATED:20220206T024945Z
LAST-MODIFIED:20220813T151749Z
UID:12054-1662800400-1662807600@www.brwoodworkers.com
SUMMARY:September 2022 Club Monthly Meeting
DESCRIPTION:Our monthly meeting in September 2022 will be held September 10th at PMC Machinery in Hammond\, LA. \nKreg products will be the main presentation. \nAs usual\, the meeting will start at 9:00 AM Central Time
URL:https://www.brwoodworkers.com/event/september-2022-club-monthly-meeting/
LOCATION:PMC Machinery\, 11420 US-190\, Hammond\, 70401\, United States
CATEGORIES:Monthly Meeting
ATTACH;FMTTYPE=image/png:https://www.brwoodworkers.com/wp-content/uploads/2022/04/BRWoodworkerClub-Logo-Tiny.png
END:VEVENT
BEGIN:VEVENT
DTSTART;TZID=America/Chicago:20220806T090000
DTEND;TZID=America/Chicago:20220806T110000
DTSTAMP:20260423T172313
CREATED:20220206T024751Z
LAST-MODIFIED:20220720T162152Z
UID:12052-1659776400-1659783600@www.brwoodworkers.com
SUMMARY:August 2022 Club Monthly Meeting
DESCRIPTION:Our monthly meeting for August 2022 will be held August 6th at the West Baton Rouge Museum in Port Allen. \nMark Monistere will do a presentation on shop work benches. \nAs usual\, our meeting will start at 9:00 a.m.
URL:https://www.brwoodworkers.com/event/august-2022-club-monthly-meeting/
LOCATION:West Baton Rouge Museum\, 845 N Jefferson Ave\, Port Allen\, 70767\, United States
CATEGORIES:Monthly Meeting
ATTACH;FMTTYPE=image/png:https://www.brwoodworkers.com/wp-content/uploads/2022/04/BRWoodworkerClub-Logo-Tiny.png
END:VEVENT
BEGIN:VEVENT
DTSTART;TZID=America/Chicago:20220709T090000
DTEND;TZID=America/Chicago:20220709T110000
DTSTAMP:20260423T172313
CREATED:20220206T024632Z
LAST-MODIFIED:20220208T052419Z
UID:12050-1657357200-1657364400@www.brwoodworkers.com
SUMMARY:July 2022 Club Monthly Meeting
DESCRIPTION:Our monthly club meeting for July 2022 will be held July 9th at David Ringuette’s shop in Denham Springs. \nBrian Stauss will be showing us his technique of wet sanding.  It results in a beautiful finish on his wood projects. \nAs usual\, the meeting will start at 9:00 AM Central Time
URL:https://www.brwoodworkers.com/event/july-2022-club-monthly-meeting/
LOCATION:David Ringuette’s Shop\, 26530 John L. Lane\, Denham Springs\, 70726\, United States
CATEGORIES:Monthly Meeting
ATTACH;FMTTYPE=image/png:https://www.brwoodworkers.com/wp-content/uploads/2022/04/BRWoodworkerClub-Logo-Tiny.png
END:VEVENT
BEGIN:VEVENT
DTSTART;TZID=America/Chicago:20220604T090000
DTEND;TZID=America/Chicago:20220604T110000
DTSTAMP:20260423T172313
CREATED:20220206T024406Z
LAST-MODIFIED:20220208T051241Z
UID:12048-1654333200-1654340400@www.brwoodworkers.com
SUMMARY:June 2022 Club Monthly Meeting
DESCRIPTION:Our monthly club meeting for June 2022 will be held June 4th at PMC Machinery in Hammond\, LA.  Bob Bewick will talk to us about Bee Boxes. \nAs usual\, the meeting will start at 9:00 AM Central Time.
URL:https://www.brwoodworkers.com/event/june-2022-club-monthly-meeting/
LOCATION:PMC Machinery\, 11420 US-190\, Hammond\, 70401\, United States
CATEGORIES:Monthly Meeting
ATTACH;FMTTYPE=image/png:https://www.brwoodworkers.com/wp-content/uploads/2022/04/BRWoodworkerClub-Logo-Tiny.png
END:VEVENT
BEGIN:VEVENT
DTSTART;TZID=America/Chicago:20220507T090000
DTEND;TZID=America/Chicago:20220507T110000
DTSTAMP:20260423T172313
CREATED:20220206T024212Z
LAST-MODIFIED:20220405T004108Z
UID:12046-1651914000-1651921200@www.brwoodworkers.com
SUMMARY:May 2022 Club Monthly Meeting
DESCRIPTION:Presentation Topic: Shop Jig \nPresenter: Harold Choate \n 
URL:https://www.brwoodworkers.com/event/may-2022-club-monthly-meeting/
LOCATION:LSU Rural Life Museum\, 4560 Essen Ln\, Baton Rouge\, LA\, 70808\, United States
CATEGORIES:Monthly Meeting
ATTACH;FMTTYPE=image/png:https://www.brwoodworkers.com/wp-content/uploads/2022/04/BRWoodworkerClub-Logo-Tiny.png
END:VEVENT
END:VCALENDAR