BEGIN:VCALENDAR
VERSION:2.0
PRODID:-//Baton Rouge Woodworking Club - ECPv6.15.20//NONSGML v1.0//EN
CALSCALE:GREGORIAN
METHOD:PUBLISH
X-ORIGINAL-URL:https://www.brwoodworkers.com
X-WR-CALDESC:Events for Baton Rouge Woodworking Club
REFRESH-INTERVAL;VALUE=DURATION:PT1H
X-Robots-Tag:noindex
X-PUBLISHED-TTL:PT1H
BEGIN:VTIMEZONE
TZID:America/Chicago
BEGIN:DAYLIGHT
TZOFFSETFROM:-0600
TZOFFSETTO:-0500
TZNAME:CDT
DTSTART:20250309T080000
END:DAYLIGHT
BEGIN:STANDARD
TZOFFSETFROM:-0500
TZOFFSETTO:-0600
TZNAME:CST
DTSTART:20251102T070000
END:STANDARD
BEGIN:DAYLIGHT
TZOFFSETFROM:-0600
TZOFFSETTO:-0500
TZNAME:CDT
DTSTART:20260308T080000
END:DAYLIGHT
BEGIN:STANDARD
TZOFFSETFROM:-0500
TZOFFSETTO:-0600
TZNAME:CST
DTSTART:20261101T070000
END:STANDARD
BEGIN:DAYLIGHT
TZOFFSETFROM:-0600
TZOFFSETTO:-0500
TZNAME:CDT
DTSTART:20270314T080000
END:DAYLIGHT
BEGIN:STANDARD
TZOFFSETFROM:-0500
TZOFFSETTO:-0600
TZNAME:CST
DTSTART:20271107T070000
END:STANDARD
END:VTIMEZONE
BEGIN:VEVENT
DTSTART;TZID=America/Chicago:20260307T090000
DTEND;TZID=America/Chicago:20260307T110000
DTSTAMP:20260423T172535
CREATED:20251211T013216Z
LAST-MODIFIED:20251211T033322Z
UID:13340-1772874000-1772881200@www.brwoodworkers.com
SUMMARY:March 2026 Club Meeting
DESCRIPTION:Skill Topic: Cajun Woodworking\,\nPresenter: Jean Zarangue
URL:https://www.brwoodworkers.com/event/march-2026-club-meeting/
LOCATION:Jean Zarangue’s Shop\, 37481 Cornerview Road\, Geismer\, LA\, 70734\, United States
CATEGORIES:Monthly Meeting
ATTACH;FMTTYPE=image/png:https://www.brwoodworkers.com/wp-content/uploads/2022/04/BRWoodworkerClub-Logo-Tiny.png
END:VEVENT
BEGIN:VEVENT
DTSTART;TZID=America/Chicago:20260411T090000
DTEND;TZID=America/Chicago:20260411T110000
DTSTAMP:20260423T172535
CREATED:20251211T013216Z
LAST-MODIFIED:20251211T013216Z
UID:13341-1775898000-1775905200@www.brwoodworkers.com
SUMMARY:April 2026 Club Meeting
DESCRIPTION:Skill Topic: Exotic Woods\,Presenter: TBD
URL:https://www.brwoodworkers.com/event/april-2026-club-meeting/
LOCATION:Scroungers Paradise\, 101 E. Coleman Ave.\, Hammond\, 70403\, United States
CATEGORIES:Monthly Meeting
ATTACH;FMTTYPE=image/png:https://www.brwoodworkers.com/wp-content/uploads/2022/04/BRWoodworkerClub-Logo-Tiny.png
END:VEVENT
BEGIN:VEVENT
DTSTART;TZID=America/Chicago:20260502T090000
DTEND;TZID=America/Chicago:20260502T110000
DTSTAMP:20260423T172535
CREATED:20251211T013216Z
LAST-MODIFIED:20251211T033124Z
UID:13342-1777712400-1777719600@www.brwoodworkers.com
SUMMARY:May 2026 Club Meeting
DESCRIPTION:Skill Topic: TBD\,\nPresenter: Mick Murphy
URL:https://www.brwoodworkers.com/event/may-2026-club-meeting/
LOCATION:Mick Murphy’s Shop\, 325 N. Waverland Drive\, Baton Rouge\, LA\, 70815\, United States
CATEGORIES:Monthly Meeting
ATTACH;FMTTYPE=image/png:https://www.brwoodworkers.com/wp-content/uploads/2022/04/BRWoodworkerClub-Logo-Tiny.png
END:VEVENT
BEGIN:VEVENT
DTSTART;TZID=America/Chicago:20260606T090000
DTEND;TZID=America/Chicago:20260606T110000
DTSTAMP:20260423T172535
CREATED:20251211T013218Z
LAST-MODIFIED:20251211T013218Z
UID:13343-1780736400-1780743600@www.brwoodworkers.com
SUMMARY:June 2026 Club Meeting
DESCRIPTION:Skill Topic: Sawmill Tour\,Presenter: Scott Allen
URL:https://www.brwoodworkers.com/event/june-2026-club-meeting/
LOCATION:Cajun Connection Woodworks\, 13162 Hwy 22 West\, Ponchatoula\, 70454\, United States
CATEGORIES:Monthly Meeting
ATTACH;FMTTYPE=image/png:https://www.brwoodworkers.com/wp-content/uploads/2022/04/BRWoodworkerClub-Logo-Tiny.png
END:VEVENT
BEGIN:VEVENT
DTSTART;TZID=America/Chicago:20260711T090000
DTEND;TZID=America/Chicago:20260711T110000
DTSTAMP:20260423T172535
CREATED:20251211T013218Z
LAST-MODIFIED:20251211T013218Z
UID:13344-1783760400-1783767600@www.brwoodworkers.com
SUMMARY:July 2026 Club Meeting
DESCRIPTION:Skill Topic: TBD\,Presenter: Bill Carter
URL:https://www.brwoodworkers.com/event/july-2026-club-meeting/
LOCATION:Bill Carter’s Shop\, 13163 Twin Lakes Drive\, Geismer\, 70734\, United States
CATEGORIES:Monthly Meeting
ATTACH;FMTTYPE=image/png:https://www.brwoodworkers.com/wp-content/uploads/2022/04/BRWoodworkerClub-Logo-Tiny.png
END:VEVENT
BEGIN:VEVENT
DTSTART;TZID=America/Chicago:20260801T090000
DTEND;TZID=America/Chicago:20260801T110000
DTSTAMP:20260423T172535
CREATED:20251211T013218Z
LAST-MODIFIED:20251229T210640Z
UID:13345-1785574800-1785582000@www.brwoodworkers.com
SUMMARY:August 2026 Club Meeting
DESCRIPTION:Skill Topic: Designing/Building Cutting Boards\,\nPresenter: Jim Landry
URL:https://www.brwoodworkers.com/event/august-2026-club-meeting/
LOCATION:PMC Machinery\, 11420 US-190\, Hammond\, 70401\, United States
CATEGORIES:Monthly Meeting
ATTACH;FMTTYPE=image/png:https://www.brwoodworkers.com/wp-content/uploads/2022/04/BRWoodworkerClub-Logo-Tiny.png
END:VEVENT
BEGIN:VEVENT
DTSTART;TZID=America/Chicago:20260905T090000
DTEND;TZID=America/Chicago:20260905T110000
DTSTAMP:20260423T172535
CREATED:20251211T013218Z
LAST-MODIFIED:20251211T032931Z
UID:13346-1788598800-1788606000@www.brwoodworkers.com
SUMMARY:September 2026 Club Meeting
DESCRIPTION:Skill Topic: Hollowing Woodturning Tool\,\nPresenter: Brian Stauss
URL:https://www.brwoodworkers.com/event/september-2026-club-meeting/
LOCATION:Brian Stauss’s Shop\, 9 West Kori Lane\, Waggaman\, 70094\, United States
CATEGORIES:Monthly Meeting
ATTACH;FMTTYPE=image/png:https://www.brwoodworkers.com/wp-content/uploads/2022/04/BRWoodworkerClub-Logo-Tiny.png
END:VEVENT
BEGIN:VEVENT
DTSTART;TZID=America/Chicago:20261003T090000
DTEND;TZID=America/Chicago:20261003T110000
DTSTAMP:20260423T172535
CREATED:20251211T013218Z
LAST-MODIFIED:20251211T032826Z
UID:13347-1791018000-1791025200@www.brwoodworkers.com
SUMMARY:October 2026 Club Meeting
DESCRIPTION:Skill Topic: Bird Houses for Swamp Fest\,\nPresenter: All Members
URL:https://www.brwoodworkers.com/event/october-2026-club-meeting/
LOCATION:Iberville Parish Visitor’s Center\, 17525 LA-77\, Grosse Tete\, 70740\, United States
CATEGORIES:Monthly Meeting
ATTACH;FMTTYPE=image/png:https://www.brwoodworkers.com/wp-content/uploads/2022/04/BRWoodworkerClub-Logo-Tiny.png
END:VEVENT
BEGIN:VEVENT
DTSTART;TZID=America/Chicago:20261107T090000
DTEND;TZID=America/Chicago:20261107T110000
DTSTAMP:20260423T172535
CREATED:20251211T013835Z
LAST-MODIFIED:20251211T013835Z
UID:13351-1794042000-1794049200@www.brwoodworkers.com
SUMMARY:November 2026 Club Meeting
DESCRIPTION:Skill Topic: Christmas Projects\,Presenter: Club Members
URL:https://www.brwoodworkers.com/event/november-2026-club-meeting/
LOCATION:LSU Rural Life Museum\, 4560 Essen Ln\, Baton Rouge\, LA\, 70808\, United States
CATEGORIES:Monthly Meeting
ATTACH;FMTTYPE=image/png:https://www.brwoodworkers.com/wp-content/uploads/2022/04/BRWoodworkerClub-Logo-Tiny.png
END:VEVENT
BEGIN:VEVENT
DTSTART;TZID=America/Chicago:20261205T090000
DTEND;TZID=America/Chicago:20261205T110000
DTSTAMP:20260423T172535
CREATED:20251211T013835Z
LAST-MODIFIED:20251211T013835Z
UID:13352-1796461200-1796468400@www.brwoodworkers.com
SUMMARY:December 2026 Club Meeting
DESCRIPTION:Skill Topic: TBD\,Presenter: Terry Landry
URL:https://www.brwoodworkers.com/event/december-2026-club-meeting/
LOCATION:Terry Landry’s Shop\, 5279 LA 63\, Clinton\, LA\, 70722\, United States
CATEGORIES:Monthly Meeting
ATTACH;FMTTYPE=image/png:https://www.brwoodworkers.com/wp-content/uploads/2022/04/BRWoodworkerClub-Logo-Tiny.png
END:VEVENT
END:VCALENDAR