BEGIN:VCALENDAR
VERSION:2.0
PRODID:-//Baton Rouge Woodworking Club - ECPv6.15.20//NONSGML v1.0//EN
CALSCALE:GREGORIAN
METHOD:PUBLISH
X-WR-CALNAME:Baton Rouge Woodworking Club
X-ORIGINAL-URL:https://www.brwoodworkers.com
X-WR-CALDESC:Events for Baton Rouge Woodworking Club
REFRESH-INTERVAL;VALUE=DURATION:PT1H
X-Robots-Tag:noindex
X-PUBLISHED-TTL:PT1H
BEGIN:VTIMEZONE
TZID:America/Chicago
BEGIN:DAYLIGHT
TZOFFSETFROM:-0600
TZOFFSETTO:-0500
TZNAME:CDT
DTSTART:20210314T080000
END:DAYLIGHT
BEGIN:STANDARD
TZOFFSETFROM:-0500
TZOFFSETTO:-0600
TZNAME:CST
DTSTART:20211107T070000
END:STANDARD
BEGIN:DAYLIGHT
TZOFFSETFROM:-0600
TZOFFSETTO:-0500
TZNAME:CDT
DTSTART:20220313T080000
END:DAYLIGHT
BEGIN:STANDARD
TZOFFSETFROM:-0500
TZOFFSETTO:-0600
TZNAME:CST
DTSTART:20221106T070000
END:STANDARD
BEGIN:DAYLIGHT
TZOFFSETFROM:-0600
TZOFFSETTO:-0500
TZNAME:CDT
DTSTART:20230312T080000
END:DAYLIGHT
BEGIN:STANDARD
TZOFFSETFROM:-0500
TZOFFSETTO:-0600
TZNAME:CST
DTSTART:20231105T070000
END:STANDARD
END:VTIMEZONE
BEGIN:VEVENT
DTSTART;TZID=America/Chicago:20220507T090000
DTEND;TZID=America/Chicago:20220507T110000
DTSTAMP:20260425T084144
CREATED:20220206T024212Z
LAST-MODIFIED:20220405T004108Z
UID:12046-1651914000-1651921200@www.brwoodworkers.com
SUMMARY:May 2022 Club Monthly Meeting
DESCRIPTION:Presentation Topic: Shop Jig \nPresenter: Harold Choate \n 
URL:https://www.brwoodworkers.com/event/may-2022-club-monthly-meeting/
LOCATION:LSU Rural Life Museum\, 4560 Essen Ln\, Baton Rouge\, LA\, 70808\, United States
CATEGORIES:Monthly Meeting
ATTACH;FMTTYPE=image/png:https://www.brwoodworkers.com/wp-content/uploads/2022/04/BRWoodworkerClub-Logo-Tiny.png
END:VEVENT
END:VCALENDAR