BEGIN:VCALENDAR
VERSION:2.0
PRODID:-//Baton Rouge Woodworking Club - ECPv6.15.20//NONSGML v1.0//EN
CALSCALE:GREGORIAN
METHOD:PUBLISH
X-ORIGINAL-URL:https://www.brwoodworkers.com
X-WR-CALDESC:Events for Baton Rouge Woodworking Club
REFRESH-INTERVAL;VALUE=DURATION:PT1H
X-Robots-Tag:noindex
X-PUBLISHED-TTL:PT1H
BEGIN:VTIMEZONE
TZID:America/Chicago
BEGIN:DAYLIGHT
TZOFFSETFROM:-0600
TZOFFSETTO:-0500
TZNAME:CDT
DTSTART:20240310T080000
END:DAYLIGHT
BEGIN:STANDARD
TZOFFSETFROM:-0500
TZOFFSETTO:-0600
TZNAME:CST
DTSTART:20241103T070000
END:STANDARD
BEGIN:DAYLIGHT
TZOFFSETFROM:-0600
TZOFFSETTO:-0500
TZNAME:CDT
DTSTART:20250309T080000
END:DAYLIGHT
BEGIN:STANDARD
TZOFFSETFROM:-0500
TZOFFSETTO:-0600
TZNAME:CST
DTSTART:20251102T070000
END:STANDARD
BEGIN:DAYLIGHT
TZOFFSETFROM:-0600
TZOFFSETTO:-0500
TZNAME:CDT
DTSTART:20260308T080000
END:DAYLIGHT
BEGIN:STANDARD
TZOFFSETFROM:-0500
TZOFFSETTO:-0600
TZNAME:CST
DTSTART:20261101T070000
END:STANDARD
END:VTIMEZONE
BEGIN:VEVENT
DTSTART;TZID=America/Chicago:20251101T090000
DTEND;TZID=America/Chicago:20251101T110000
DTSTAMP:20260423T190147
CREATED:20241206T043409Z
LAST-MODIFIED:20250917T154504Z
UID:13164-1761987600-1761994800@www.brwoodworkers.com
SUMMARY:November 2025 Club Meeting
DESCRIPTION:Skill Topic: Dust Control\,\nPresenter: Lee Owens
URL:https://www.brwoodworkers.com/event/november-2025-club-meeting/
LOCATION:West Baton Rouge Museum\, 845 N Jefferson Ave\, Port Allen\, 70767\, United States
CATEGORIES:Monthly Meeting
ATTACH;FMTTYPE=image/png:https://www.brwoodworkers.com/wp-content/uploads/2022/04/BRWoodworkerClub-Logo-Tiny.png
END:VEVENT
END:VCALENDAR